BEGIN:VCALENDAR
VERSION:2.0
PRODID:-//ChamberMaster//Event Calendar 2.0//EN
METHOD:PUBLISH
X-PUBLISHED-TTL:P3D
REFRESH-INTERVAL:P3D
CALSCALE:GREGORIAN
BEGIN:VEVENT
DTSTART:20120125T200000Z
DTEND:20120125T213000Z
X-MICROSOFT-CDO-ALLDAYEVENT:FALSE
SUMMARY:01/25/12 Leaders Forum with Kamala Harris
DESCRIPTION:VICA Leaders Forum with California Attorney General Kamala Harris
X-ALT-DESC;FMTTYPE=text/html:VICA Leaders Forum with California Attorney General Kamala Harris 
LOCATION:The Beverly Garland Holiday Inn 4222 Vineland Avenue\, North Hollywood
UID:e.9034.648
SEQUENCE:3
DTSTAMP:20260424T064323Z
URL:http://business.vica.com/events/details/01-25-12-leaders-forum-with-kamala-harris-01-25-2012-648
END:VEVENT

END:VCALENDAR
