BEGIN:VCALENDAR
VERSION:2.0
PRODID:-//ChamberMaster//Event Calendar 2.0//EN
METHOD:PUBLISH
X-PUBLISHED-TTL:P3D
REFRESH-INTERVAL:P3D
CALSCALE:GREGORIAN
BEGIN:VEVENT
DTSTART:20120126T200000Z
DTEND:20120126T220000Z
X-MICROSOFT-CDO-ALLDAYEVENT:FALSE
SUMMARY:01/26/12 Board Meeting
DESCRIPTION:VICA Board Meeting
X-ALT-DESC;FMTTYPE=text/html:VICA Board Meeting 
LOCATION:The January Board meeting is being hosted by ITT Technical Institute. ITT Technical Institute 12669 Encinitas Avenue Sylmar\, C A91342 Directions coming from the Valley: Take the 5 north towards Santa Clarita and get off on Roxford in Sylmar. If you take the Roxford West exit\, just follow it around and it puts you on Encinitas - then take it straight down and ITT is on your right hand side. Ample parking is available in their parking lot. Please be sure to check in at their front desk when arriving.
UID:e.9034.657
SEQUENCE:3
DTSTAMP:20260424T064320Z
URL:http://business.vica.com/events/details/01-26-12-board-meeting-01-26-2012-657
END:VEVENT

END:VCALENDAR
