BEGIN:VCALENDAR
VERSION:2.0
PRODID:-//ChamberMaster//Event Calendar 2.0//EN
METHOD:PUBLISH
X-PUBLISHED-TTL:P3D
REFRESH-INTERVAL:P3D
CALSCALE:GREGORIAN
BEGIN:VEVENT
DTSTART:20120322T190000Z
DTEND:20120322T210000Z
X-MICROSOFT-CDO-ALLDAYEVENT:FALSE
SUMMARY:03/22/12 VICA Board Meeting
DESCRIPTION:VICA Board of Directors Meeting\n\nHosted by: Southern California Gas Company
X-ALT-DESC;FMTTYPE=text/html:VICA Board of Directors Meeting<br />\nHosted by: Southern California Gas Company &nbsp\;
LOCATION:The Gas Company 9400 Oakdale Avenue Chatsworth\, CA 91311 There is limited parking on the lot - plenty of street parking available
UID:e.9034.673
SEQUENCE:3
DTSTAMP:20260424T033045Z
URL:http://business.vica.com/events/details/03-22-12-vica-board-meeting-03-22-2012-673
END:VEVENT

END:VCALENDAR
