BEGIN:VCALENDAR
VERSION:2.0
PRODID:-//ChamberMaster//Event Calendar 2.0//EN
METHOD:PUBLISH
X-PUBLISHED-TTL:P3D
REFRESH-INTERVAL:P3D
CALSCALE:GREGORIAN
BEGIN:VEVENT
DTSTART:20120426T150000Z
DTEND:20120426T170000Z
X-MICROSOFT-CDO-ALLDAYEVENT:FALSE
SUMMARY:04/26/12 Board Meeting
DESCRIPTION:VICA Board Meeting\n\n\n\nVery important: If you are not on the list\, you will not be allowed onto the campus. Photo I.D. required to check in - must be a U.S. Citizen.
X-ALT-DESC;FMTTYPE=text/html:VICA Board Meeting<br />\n<br />\nVery important: If you are not on the list\, you will not be allowed onto the campus. Photo I.D. required to check in - must be a U.S. Citizen.<span _fck_bookmark="1" style="display: none">&nbsp\;</span>
LOCATION:Pratt & Whitney Rocketdyne 6633 Canoga Avenue Canoga Park\, CA 91309 Enter at Rocketdyne Dr. and park in Visitors Lot. Walk west to right corner of parking area and enter through the pedestrian gate.
UID:e.9034.681
SEQUENCE:3
DTSTAMP:20260424T015353Z
URL:http://business.vica.com/events/details/04-26-12-board-meeting-04-26-2012-681
END:VEVENT

END:VCALENDAR
