BEGIN:VCALENDAR
VERSION:2.0
PRODID:-//ChamberMaster//Event Calendar 2.0//EN
METHOD:PUBLISH
X-PUBLISHED-TTL:P3D
REFRESH-INTERVAL:P3D
CALSCALE:GREGORIAN
BEGIN:VEVENT
DTSTART:20120202T200000Z
DTEND:20120202T210000Z
X-MICROSOFT-CDO-ALLDAYEVENT:FALSE
SUMMARY:1-2-12 EE&U Committee Meeting
DESCRIPTION:Environment\, Energy & Utilities Committee Meeting
X-ALT-DESC;FMTTYPE=text/html:Environment\, Energy &amp\; Utilities Committee Meeting
LOCATION:VICA Office 5121 Van Nuys Blvd.\, 2nd Floor Sherman Oaks\, CA 91403
UID:e.9034.656
SEQUENCE:3
DTSTAMP:20260424T050913Z
URL:http://business.vica.com/events/details/1-2-12-ee-u-committee-meeting-02-02-2012-656
END:VEVENT

END:VCALENDAR
