BEGIN:VCALENDAR
VERSION:2.0
PRODID:-//ChamberMaster//Event Calendar 2.0//EN
METHOD:PUBLISH
X-PUBLISHED-TTL:P3D
REFRESH-INTERVAL:P3D
CALSCALE:GREGORIAN
BEGIN:VEVENT
DTSTART:20131009T190000Z
DTEND:20131009T203000Z
X-MICROSOFT-CDO-ALLDAYEVENT:FALSE
SUMMARY:10/09/13 Aviation Committee
DESCRIPTION:Dear Aviation Committee Members:\n\n\n\nThe next VICA Aviation Committee meeting will be held Wednesday\, October 9th from 12 noon - 1:30 p.m at the Van Nuys FlyAway Building (7610 Woodley Ave\, Van Nuys\, CA 91406)\n\n \n\nLunch will be provided by Van Nuys Airport.\n\n \n\nFor more information\, please see below or click here for the full agenda.\n\n \n\nIf you plan on attending\, please RSVP to  katie@vica.com or register online!\n\n\n\nThank You\,\n\nDoug\n\nAGENDA\n\n\n	\n	Welcome & Self-Introductions \n	\n	VICA Announcements & Updates\n	Legislative Updates from Elected Official Staffers\n	Guest Speaker: Jim Dantona\, Chief of Staff\, Councilmember Nury Martinez\n	VNY Report: Operations Update\, Runway 16R Completion\, Land Development Plan & Deficit Recovery Program   presentation by Jess Romo\, General Manager\, Van Nuys Airport\n	\n	BUR Report: Operations Update\, Ground Access & Noise Study   presentation by Mark Hardyment\, Director of Noise and Environmental Programs\, Burbank Bob Hope Airport\n	\n	SCAG Regional Aviation Program Update   presentation by Ryan Hall\, Regional Aviation Planning Specialist\, Southern California Council of Governments\n	Old/New Business
X-ALT-DESC;FMTTYPE=text/html:<p><span style="font-size: 14px\;"><span style="font-family: arial\;">Dear Aviation Committee Members:<br />\n<br />\nThe next VICA Aviation Committee meeting will be held Wednesday\, October 9th&nbsp\;from 12 noon - 1:30 p.m at the Van Nuys FlyAway Building&nbsp\;(<span style="color: windowtext\;">7610 Woodley Ave\, Van Nuys\, CA 91406)</span></span></span><br />\n<span style="font-size: 14px\;"><span style="font-family: arial\;">&nbsp\;<br />\nLunch will be provided by <strong>Van Nuys Airport</strong>.<br />\n&nbsp\;<br />\nFor more information\, please see below or <a href="http://cloud.chambermaster.com/userfiles/UserFiles/chambers/9034/File/October92013VICAAviationagenda.pdf">click here for the full agenda</a>.<br />\n&nbsp\;<br />\nIf you plan on attending\, please RSVP to <span _fck_bookmark="1" style="display: none\;">&nbsp\;</span><a href="mailto:katie@vica.com?subject=RSVP%20for%20VICA%20Aviation%20Committee%20Meeting%20-%20Jul%2010&amp\;body=Katie%2C%0A%0AI%20will%20attend%20the%20VICA%20Aviation%20Committee%20meeting%20on%20July%2010%2C%202013%20at%2012%20noon.%0A%0AThank%20you!%0A">katie@vica.com</a> or register online!<br />\n<br />\nThank You\,<br />\nDoug</span></span></p>\n\n<p style="text-align: center\;"><span style="font-family: arial\;"><span style="font-size: 16px\;"><strong><u>AGENDA</u></strong></span></span></p>\n\n<ol>\n	<li style="margin-top:0in\;margin-right:0in\;margin-bottom:6.0pt\;">\n	<p><span style="font-size:14px\;"><span style="font-family: arial\;"><strong>Welcome &amp\; Self-Introductions </strong></span></span></p>\n	</li>\n	<li style="margin-top:0in\;margin-right:0in\;margin-bottom:6.0pt\;"><span style="font-size:14px\;"><span style="font-family: arial\;"><strong>VICA Announcements &amp\; Updates</strong></span></span></li>\n	<li style="margin-top:0in\;margin-right:0in\;margin-bottom:6.0pt\;"><span style="font-size:14px\;"><span style="font-family: arial\;"><strong><span style="color: windowtext\;">Legislative Updates from Elected Official Staffers</span></strong></span></span></li>\n	<li style="margin-top:0in\;margin-right:0in\;margin-bottom:6.0pt\;"><span style="font-size:14px\;"><span style="font-family: arial\;"><strong><span style="color: windowtext\;">Guest Speaker: </span></strong></span></span><span style="font-size:14px\;"><span style="font-family: arial\;"><span style="color: windowtext\;">Jim Dantona\, Chief of Staff\, Councilmember Nury Martinez</span></span></span></li>\n	<li style="margin-top:0in\;margin-right:0in\;margin-bottom:6.0pt\;"><span style="font-size:14px\;"><span style="font-family: arial\;"><strong><span style="color: windowtext\;">VNY Report: Operations Update\, Runway 16R Completion\, Land Development Plan &amp\; Deficit Recovery Program </span></strong><span style="color: windowtext\;">&ndash\; presentation by Jess Romo\, General Manager\, Van Nuys Airport</span></span></span></li>\n	<li style="margin-top:0in\;margin-right:0in\;margin-bottom:6.0pt\;">\n	<p><span style="font-size:14px\;"><span style="font-family: arial\;"><strong><span style="color: windowtext\;">BUR Report: Operations Update\, Ground Access &amp\; Noise Study </span></strong><span style="color: windowtext\;">&ndash\; presentation by Mark Hardyment\, Director of </span></span>Noise and Environmental Programs<span style="font-family: arial\;"><span style="color: windowtext\;">\,</span> Burbank Bob Hope Airport</span></span></p>\n	</li>\n	<li style="margin-top:0in\;margin-right:0in\;margin-bottom:6.0pt\;"><span style="font-size:14px\;"><span style="font-family: arial\;"><strong><span style="color: windowtext\;">SCAG Regional Aviation Program Update </span></strong><span style="color: windowtext\;">&ndash\; presentation by Ryan Hall\, Regional Aviation Planning Specialist\, Southern California Council of Governments</span></span></span></li>\n	<li style="margin-top:0in\;margin-right:0in\;margin-bottom:6.0pt\;"><span style="font-size:14px\;"><span style="font-family: arial\;"><strong><span style="color: windowtext\;">Old/New Business</span></strong></span></span></li>\n</ol>\n
LOCATION:Van Nuys Airport FlyAway Building 2nd Floor Conference Room 7610 Woodley Ave\, Van Nuys\, CA 91406
UID:e.9034.810
SEQUENCE:3
DTSTAMP:20260421T001915Z
URL:http://business.vica.com/events/details/10-09-13-aviation-committee-10-09-2013-810
END:VEVENT

END:VCALENDAR
