BEGIN:VCALENDAR
VERSION:2.0
PRODID:-//ChamberMaster//Event Calendar 2.0//EN
METHOD:PUBLISH
X-PUBLISHED-TTL:P3D
REFRESH-INTERVAL:P3D
CALSCALE:GREGORIAN
BEGIN:VEVENT
DTSTART:20111028T140000Z
DTEND:20111028T210000Z
X-MICROSOFT-CDO-ALLDAYEVENT:FALSE
SUMMARY:10-28- 2011- Business Forecast Conference
DESCRIPTION:This is one of the region's best public policy conferences\, as high-ranking officeholders and other public officials discuss timely business issues with economists\, academics\, business leaders and attendees in dialogue generating sessions. Join more than 400 business leaders for a hot breakfast forecast\, followed by breakout sessions and luncheon with prominent keynote speaker.\n\n	\n\n	Click Here for more information on the advertising and exhibit booth opportunities.\n\n	\n\n	Click Here to download the registration form.
X-ALT-DESC;FMTTYPE=text/html:<p style="text-align: center">\n	<span style="font-size: 12px"><span style="font-family: arial">This is one of the region&rsquo\;s best public policy conferences\, as high-ranking officeholders and other public officials discuss timely business issues with economists\, academics\, business leaders and attendees in dialogue generating sessions. Join more than 400 business leaders for a hot breakfast forecast\, followed by breakout sessions and luncheon with prominent keynote speaker.<br />\n	<br />\n	<a href="http://cloud.chambermaster.com/userfiles/UserFiles/chambers/9034/File/2011BFCRate-ExhibitBoothSheet.pdf">Click Here</a>&nbsp\;for more information on the advertising and exhibit booth opportunities.<br />\n	<br />\n	<a href="http://cloud.chambermaster.com/userfiles/UserFiles/chambers/9034/File/2011BFCRegistrationForm.pdf">Click Here</a>&nbsp\;to download the registration form. </span></span></p>\n
LOCATION:Universal Hilton Hotel 555 Universal Hollywood Dr. Universal City\, CA
UID:e.9034.635
SEQUENCE:3
DTSTAMP:20260424T110602Z
URL:http://business.vica.com/events/details/10-28-2011-business-forecast-conference-10-28-2011-635
END:VEVENT

END:VCALENDAR
