BEGIN:VCALENDAR
VERSION:2.0
PRODID:-//ChamberMaster//Event Calendar 2.0//EN
METHOD:PUBLISH
X-PUBLISHED-TTL:P3D
REFRESH-INTERVAL:P3D
CALSCALE:GREGORIAN
BEGIN:VEVENT
DTSTART:20111117T200000Z
DTEND:20111117T220000Z
X-MICROSOFT-CDO-ALLDAYEVENT:FALSE
SUMMARY:11/17/11 Board Meeting
DESCRIPTION:VICA November Board Meeting\n\nPlease try and attend. The 2012 Board of Directors and Executive Committee Slates along with the 2012 Budget will be presented at this meeting.
X-ALT-DESC;FMTTYPE=text/html:VICA November Board Meeting<br />\nPlease try and attend. The 2012 Board of Directors and Executive Committee Slates along with the 2012 Budget will be presented at this meeting. &nbsp\;
LOCATION:Beverly Garland Holiday Inn 4222 Vineland Avenue\, North Hollywood
UID:e.9034.643
SEQUENCE:3
DTSTAMP:20260424T094248Z
URL:http://business.vica.com/events/details/11-17-11-board-meeting-11-17-2011-643
END:VEVENT

END:VCALENDAR
