BEGIN:VCALENDAR
VERSION:2.0
PRODID:-//ChamberMaster//Event Calendar 2.0//EN
METHOD:PUBLISH
X-PUBLISHED-TTL:P3D
REFRESH-INTERVAL:P3D
CALSCALE:GREGORIAN
BEGIN:VEVENT
DTSTART:20111213T160000Z
DTEND:20111213T180000Z
X-MICROSOFT-CDO-ALLDAYEVENT:FALSE
SUMMARY:12-13-2011 - Land Use Committee
DESCRIPTION:Click HereDear Land Use Committee Member:\n\n	\n\n	The next VICA Land Use committee meeting will be held Tuesday\, December 13th from 8 - 10 a.m. at the Beverly Garland Holiday Inn (4222 Vineland Avenue\, North Hollywood).\n\n	\n\n	For more information\, plese see below or click here     for the full agenda and click here for the policy paper for item 6.\n\n	\n\n	If you plan on attending\, please RSVP to katie@vica.com or !\n\n	\n\n	Thank You\,\n\n	Doug\n\n	AGENDA\n\n	\n		\n			Welcome & Self Introductions \n	\n	\n		\n			VICA Announcements & Action Updates\n	\n	\n		Elected Official Staffer Updates\n	\n		Changes to City Planning Department Furlough Policy   Alan Bell\, Deputy Director of the Los Angeles Department of City Planning\n	\n		Planning Department Recommendations on the Revised Sign Ordinance   Alan Bell\, Deputy Director of the Los Angeles Department of City Planning\n	\n		Hidden Creeks Estates and Preserve Project   presentation by George Minter of GM Public Affairs and John Polito of Forestar Real Estate Group\, Inc.\, discussion and action item\n	\n		2012 Legislative Goals for the Land Use Committee   discussion\n	\n		\n			Old/New Business\n	\n	\n		\n			Future Land Use Meetings in 2012: Feb 14\, Apr 10\, Jun 12
X-ALT-DESC;FMTTYPE=text/html:<p style="line-height: 150%\;">\n	<span style="font-size: 14px\;"><span style="font-family: arial\;"><a href="http://cloud.chambermaster.com/userfiles/UserFiles/chambers/9034/File/VICACEQAReformsProposal.pdf">Click </a><a href="http://cloud.chambermaster.com/userfiles/UserFiles/chambers/9034/File/VICACEQAReformsProposal.pdf">Here</a>Dear Land Use Committee Member:<br />\n	<br />\n	The next VICA Land Use committee meeting will be held Tuesday\, December 13th from 8 - 10 a.m. at the Beverly Garland Holiday Inn (4222 Vineland Avenue\, North Hollywood).<br />\n	<br />\n	For more information\, plese see below or <span style="color: rgb(0\, 0\, 255)\;"><a href="http://cloud.chambermaster.com/userfiles/UserFiles/chambers/9034/File/VICALandUseagendaforDecember132011meeting.pdf">click here</a></span> <span _fck_bookmark="1" style="display: none\;">&nbsp\;</span><span _fck_bookmark="1" style="display: none\;">&nbsp\;</span><span _fck_bookmark="1" style="display: none\;">&nbsp\;</span><span _fck_bookmark="1" style="display: none\;"> </span><u><a href="http://cloud.chambermaster.com/userfiles/UserFiles/chambers/9034/File/VICA%20Land%20Use%20agenda%20for%20June%2014\,%202011%20meeting(1).pdf" name="undefined"></a></u>for <font face="Arial">the full agenda and <a href="http://cloud.chambermaster.com/userfiles/UserFiles/chambers/9034/File/HiddenCreeksPositionPaper.pdf">click here</a> for the policy paper for item 6.<br />\n	<br />\n	If you plan on attending\, please RSVP to </font></span></span><a href="mailto:katie@vica.com"><span style="font-family: arial\;"><span style="font-size: 14px\;">katie@vica.com</span></span></a><span style="font-size: 14px\;"><span style="font-family: arial\;"><font face="Arial"> or !<br />\n	<br />\n	Thank You\,<br />\n	Doug</font></span></span></p>\n<p style="text-align: center\;">\n	<span style="font-size: 16px\;"><span style="font-family: arial\;"><strong><u>AGENDA</u></strong></span></span></p>\n<ol>\n	<li style="line-height: 150%\; margin-bottom: 6pt\;">\n		<p>\n			<span style="font-size: 14px\;"><span style="font-family: arial\;"><strong>Welcome &amp\; Self Introductions </strong></span></span></p>\n	</li>\n	<li style="line-height: 150%\; margin-bottom: 6pt\;">\n		<p>\n			<span style="font-size: 14px\;"><span style="font-family: arial\;"><strong>VICA </strong><strong>Announcements &amp\; Action Updates</strong></span></span></p>\n	</li>\n	<li style="line-height: 150%\; margin-bottom: 6pt\;">\n		<span style="font-size: 14px\;"><span style="font-family: arial\;"><strong>Elected Official Staffer Update</strong></span><strong>s</strong></span></li>\n	<li style="line-height: 150%\; margin-bottom: 6pt\;">\n		<span style="font-size: 14px\;"><strong>Changes to City Planning Department Furlough Policy </strong>&ndash\; Alan Bell\, Deputy Director of the Los Angeles Department of City Planning</span></li>\n	<li style="line-height: 150%\; margin-bottom: 6pt\;">\n		<span style="font-size: 14px\;"><strong>Planning Department Recommendations on the Revised Sign Ordinance </strong>&ndash\; </span><span style="font-size: 14px\;">Alan Bell\, Deputy Director of the Los Angeles Department of City Planning</span></li>\n	<li style="line-height: 150%\; margin-bottom: 6pt\;">\n		<span style="font-size: 14px\;"><a href="http://cloud.chambermaster.com/userfiles/UserFiles/chambers/9034/File/HiddenCreeksPositionPaper.pdf"><strong>Hidden Creeks Estates and Preserve Project </strong></a>&ndash\; presentation by George Minter of GM Public Affairs and John Polito of Forestar Real Estate Group\, Inc.\, discussion and action item</span></li>\n	<li style="line-height: 150%\; margin-bottom: 6pt\;">\n		<span style="font-size: 14px\;"><strong>2012 Legislative Goals for the Land Use Committee </strong>&ndash\; discussion</span></li>\n	<li style="line-height: 150%\; margin-bottom: 6pt\;">\n		<p>\n			<span style="font-size: 14px\;"><span style="font-family: arial\;"><strong>Old/New Business</strong></span></span></p>\n	</li>\n	<li style="line-height: 150%\; margin-bottom: 6pt\;">\n		<p>\n			<span style="font-size: 14px\;"><span style="font-family: arial\;"><strong>Future Land Use Meetings in 2012: </strong>Feb 14\, Apr 10\, Jun 12</span></span></p>\n	</li>\n</ol>\n
LOCATION:The Beverly Garland's Holiday Inn 4222 Vineland Avenue North Hollywood\, CA 91602
UID:e.9034.619
SEQUENCE:3
DTSTAMP:20260424T082756Z
URL:http://business.vica.com/events/details/12-13-2011-land-use-committee-12-13-2011-619
END:VEVENT

END:VCALENDAR
