BEGIN:VCALENDAR
VERSION:2.0
PRODID:-//ChamberMaster//Event Calendar 2.0//EN
METHOD:PUBLISH
X-PUBLISHED-TTL:P3D
REFRESH-INTERVAL:P3D
CALSCALE:GREGORIAN
BEGIN:VEVENT
DTSTART:20111215T193000Z
DTEND:20111215T220000Z
X-MICROSOFT-CDO-ALLDAYEVENT:FALSE
SUMMARY:12-15-2011 Annual Meeting
DESCRIPTION:A festive way to end a successful year! Join 300 VICA members and other Valley opinion leaders for a fun lunch program with lots of time for networking\, keynote speaker and a few awards recognizing volunteers and corporate leaders. Awards include Robert E. Gibson Corporate Award of Excellence\, Harmon Ballin Community Service Award and the President's Award for an outstanding VICA board member.
X-ALT-DESC;FMTTYPE=text/html:<p style="text-align: center">\n	<span style="font-family: arial"><span style="font-size: 12px"><span style="layout-grid-mode: line">A festive way to end a successful year! Join 300 VICA members and other Valley opinion leaders for a fun lunch program with lots of time for networking\, keynote speaker and a few awards recognizing volunteers and corporate leaders. Awards include Robert E. Gibson Corporate Award of Excellence\, Harmon Ballin Community Service Award and the President&rsquo\;s Award for an outstanding VICA board member. </span></span></span></p>\n
LOCATION:Burbank Airport Marriott
UID:e.9034.593
SEQUENCE:3
DTSTAMP:20260424T081858Z
URL:http://business.vica.com/events/details/12-15-2011-annual-meeting-12-15-2011-593
END:VEVENT

END:VCALENDAR
