BEGIN:VCALENDAR
VERSION:2.0
PRODID:-//ChamberMaster//Event Calendar 2.0//EN
METHOD:PUBLISH
X-PUBLISHED-TTL:P3D
REFRESH-INTERVAL:P3D
CALSCALE:GREGORIAN
BEGIN:VEVENT
DTSTART:20120209T163000Z
DTEND:20120209T180000Z
X-MICROSOFT-CDO-ALLDAYEVENT:FALSE
SUMMARY:2-9-12 Education Committee
DESCRIPTION:Dear VICA Education Committee Member:\n\n	\n\n	The next VICA Education committee meeting will be held on Thursday\, February 9 from 8:30-10 a.m. at our office (5121 Van Nuys Blvd. 2nd Floor\, Sherman Oaks\, 91403).\n\n	\n\n	If you plan on attending\, please RSVP to katie@vica.com or register online!\n\n	\n\n	Thank You\,\n\n	Doug
X-ALT-DESC;FMTTYPE=text/html:<p>\n	<span style="font-size: 14px"><span style="font-family: arial">Dear VICA Education Committee Member:<br />\n	<br />\n	<span style="font-size: 14px"><span style="font-family: arial">The next VICA Education committee meeting will be held on Thursday\,&nbsp\;February 9&nbsp\;from 8:30-10 a.m. at our office (5121 Van Nuys Blvd. 2nd Floor\, Sherman Oaks\, 91403).<br />\n	<br />\n	If you plan on attending\, please RSVP to <a href="mailto:katie@vica.com">katie@vica.com</a> <span style="font-size: 12px">or </span></span></span><span style="font-size: 14px"><a href="https://secure.chambermaster.com/directory/jsp/events/dlg/Public_AddReg.jsp?pid=[cm:keyterm]reg_pid[/cm:keyterm]">register online</a></span><span style="font-size: 14px"><span style="font-family: arial"><span style="font-size: 12px">!</span><br />\n	<br />\n	Thank You\,<br />\n	Doug</span></span></span></span></p>\n
LOCATION:The VICA Office 5121 Van Nuys Blvd. 2nd Floor Sherman Oaks\, CA 91403 (Please use street parking or park along the fence at Corky's when attending VICA committee meetings)
UID:e.9034.663
SEQUENCE:3
DTSTAMP:20260424T050850Z
URL:http://business.vica.com/events/details/2-9-12-education-committee-02-09-2012-663
END:VEVENT

END:VCALENDAR
