BEGIN:VCALENDAR
VERSION:2.0
PRODID:-//ChamberMaster//Event Calendar 2.0//EN
METHOD:PUBLISH
X-PUBLISHED-TTL:P3D
REFRESH-INTERVAL:P3D
CALSCALE:GREGORIAN
BEGIN:VEVENT
DTSTART:20120225T020000Z
DTEND:20120225T050000Z
X-MICROSOFT-CDO-ALLDAYEVENT:FALSE
SUMMARY:2012 State Officeholders Dinner
DESCRIPTION:VICA State Officeholders Dinner
X-ALT-DESC;FMTTYPE=text/html:VICA State Officeholders Dinner 
LOCATION:Universal Studios Grill\, on the Universal Studios Lot
UID:e.9034.591
SEQUENCE:3
DTSTAMP:20260424T050637Z
URL:http://business.vica.com/events/details/2012-state-officeholders-dinner-02-24-2012-591
END:VEVENT

END:VCALENDAR
