BEGIN:VCALENDAR
VERSION:2.0
PRODID:-//ChamberMaster//Event Calendar 2.0//EN
METHOD:PUBLISH
X-PUBLISHED-TTL:P3D
REFRESH-INTERVAL:P3D
CALSCALE:GREGORIAN
BEGIN:VEVENT
DTSTART:20120419T150000Z
DTEND:20120419T170000Z
X-MICROSOFT-CDO-ALLDAYEVENT:FALSE
SUMMARY:4-19-12 Entertainment Committee
DESCRIPTION:Dear VICA Entertainment Committee Member:\n\n	\n\n	The next Entertainment committee meeting will be held Thursday\, April 19th from 8 - 10 a.m. at the VICA office (5121 Van Nuys Blvd\, 2nd Floor\, Sherman Oaks).\n\n	\n\n	Breakfast will be provided courtesy of PacFed Benefit Administrators.\n\n	For more information\, please see below or click here for the full agenda.\n\n	 \n\n	If you plan to attend\, please RSVP to katie@vica.com or register online!\n\n	 \n\n	Thank You\,\n\n	Doug\n\n	 AGENDA\n\n	\n		\n			Welcome & Self-introductions\n	\n	\n		\n			VICA Announcements & Updates\n	\n	\n		\n			Elected Official Staffer Updates\n	\n	\n		\n			Motion Picture Association of America Advocacy Priorities   presentation by Sarah Walsh of MPAA\n	\n	\n		\n			California Commercial Production Tax Credit Program   presentation by David Phelps of the Association of Independent Commercial Producers\n	\n	\n		\n			County of Los Angeles Model Film Ordinance   presentation by Todd Lindgren of FilmL.A.\, Inc.\n	\n	\n		\n			AB 2026 (Fuentes) California Film and Television Tax Credit Program: The Road Ahead   presentation by Ben Golombek of the Office of Assemblymember Felipe Fuentes (Capitol Office) and discussion \n	\n	\n		\n			New/Old Business\n	\n	\n		\n			Upcoming 2012 VICA Entertainment Committee Dates: Jul 19\, Oct 18
X-ALT-DESC;FMTTYPE=text/html:<p>\n	<span style="font-size: 14px"><span style="font-family: arial">Dear VICA Entertainment Committee Member:</span></span><br />\n	<br />\n	<span style="font-size: 14px"><span style="font-family: arial">The next Entertainment committee meeting will be held Thursday\, April 19th from 8 - 10 a.m. at the VICA office (5121 Van Nuys Blvd\, 2nd Floor\,&nbsp\;Sherman Oaks).<br />\n	<br />\n	Breakfast will be provided courtesy of <strong>PacFed Benefit Administrators</strong>.</span></span></p>\n<p>\n	<span style="font-size: 14px"><span style="font-family: arial">For more information\, please see be</span><span style="font-family: arial">low</span></span><span style="font-size: 14px"><span style="font-family: arial"> or <a href="http://cloud.chambermaster.com/userfiles/UserFiles/chambers/9034/File/April192012VICAEntertainmentAgenda.pdf">click here for the full agenda</a>.</span></span><br />\n	<span style="font-size: 14px"><span style="font-family: arial">&nbsp\;<br />\n	If you plan to attend\, please RSVP to <a href="mailto:katie@vica.com?subject=RSVP%20for%20VICA%20Entertainment%20Committee%20Meeting%20-%20Jan%2012%20-%208%20a.m.&amp\;body=Katie%2C%0A%0AI%20will%20be%20attending%20the%20VICA%20Entertainment%20Committee%20meeting%20on%20January%2012%2C%202012.%0A%0AThank%20You%21">katie</a><a href="mailto:doug@vica.com">@vica.com</a>&nbsp\;or register online!<br />\n	&nbsp\;<br />\n	Thank You\,<br />\n	Doug</span></span></p>\n<p style="text-align: center">\n	<span style="font-family: arial"><span style="font-size: 14px">&nbsp\;<span style="font-size: 16px"><u><strong>AGENDA</strong></u></span></span></span></p>\n<ol>\n	<li>\n		<p>\n			<span style="font-size: 14px"><span style="font-family: arial"><strong>Welcome &amp\; Self-introductions</strong></span></span></p>\n	</li>\n	<li>\n		<p>\n			<span style="font-size: 14px"><span style="font-family: arial"><strong>VICA Announcements &amp\; Updates</strong></span></span></p>\n	</li>\n	<li>\n		<p>\n			<span style="font-size: 14px"><span style="font-family: arial"><strong>Elected Official Staffer Updates</strong></span></span></p>\n	</li>\n	<li>\n		<p>\n			<span style="font-size: 14px"><span style="font-family: arial"><strong>Motion Picture Association of America Advocacy Priorities </strong>&ndash\; presentation by Sarah Walsh of MPAA</span></span></p>\n	</li>\n	<li>\n		<p>\n			<span style="font-size: 14px"><span style="font-family: arial"><strong>California Commercial Production Tax Credit Program </strong>&ndash\; presentation by David Phelps of the Association of Independent Commercial Producers</span></span></p>\n	</li>\n	<li>\n		<p>\n			<span style="font-size: 14px"><span style="font-family: arial"><strong>County of Los Angeles Model Film Ordinance </strong>&ndash\; presentation by Todd Lindgren of FilmL.A.\, Inc.</span></span></p>\n	</li>\n	<li>\n		<p>\n			<span style="font-size: 14px"><span style="font-family: arial"><strong>AB 2026 (Fuentes) California Film and Television Tax Credit Program: The Road Ahead </strong>&ndash\; presentation by Ben Golombek of the Office of Assemblymember Felipe Fuentes (Capitol Office) and discussion </span></span></p>\n	</li>\n	<li>\n		<p>\n			<span style="font-size: 14px"><span style="font-family: arial"><strong>New/Old Business</strong></span></span></p>\n	</li>\n	<li>\n		<p>\n			<span style="font-size: 14px"><span style="font-family: arial"><strong>Upcoming 2012 VICA Entertainment Committee Dates: </strong>Jul 19\, Oct 18</span></span></p>\n	</li>\n</ol>\n
LOCATION:The VICA Office 5121 Van Nuys Blvd. Ste 203 Sherman Oaks\, CA 91403 (Please use street parking or park along the fence at Corky's when attending VICA committee meetings)
UID:e.9034.620
SEQUENCE:3
DTSTAMP:20260424T015406Z
URL:http://business.vica.com/events/details/4-19-12-entertainment-committee-04-19-2012-620
END:VEVENT

END:VCALENDAR
