BEGIN:VCALENDAR
VERSION:2.0
PRODID:-//ChamberMaster//Event Calendar 2.0//EN
METHOD:PUBLISH
X-PUBLISHED-TTL:P3D
REFRESH-INTERVAL:P3D
CALSCALE:GREGORIAN
BEGIN:VEVENT
DTSTART:20110525T190000Z
DTEND:20110525T203000Z
X-MICROSOFT-CDO-ALLDAYEVENT:FALSE
SUMMARY:5/25/2011 Newsmaker Connection
DESCRIPTION:VICA's Newsmaker Connection is a quarterly\n\n	program that brings together lawmakers\, public\n\n	officials\, opinion and business leaders. VICA\n\n	members have the opportunity to exchange ideas\n\n	about how public policy impacts the economic\n\n	vitality of our community\, and how to strengthen\n\n	our business climate.
X-ALT-DESC;FMTTYPE=text/html:<p style="text-align: center">\n	<span style="font-size: 12px"><font face="Arial-ItalicMT"><font face="Arial-ItalicMT">VICA&rsquo\;s Newsmaker Connection is a quarterly</font></font></span></p>\n<p style="text-align: center">\n	<span style="font-size: 12px"><font face="Arial-ItalicMT"><font face="Arial-ItalicMT">program that brings together lawmakers\, public</font></font></span></p>\n<p style="text-align: center">\n	<span style="font-size: 12px"><font face="Arial-ItalicMT"><font face="Arial-ItalicMT">officials\, opinion and business leaders. VICA</font></font></span></p>\n<p style="text-align: center">\n	<span style="font-size: 12px"><font face="Arial-ItalicMT"><font face="Arial-ItalicMT">members have the opportunity to exchange ideas</font></font></span></p>\n<p style="text-align: center">\n	<span style="font-size: 12px"><font face="Arial-ItalicMT"><font face="Arial-ItalicMT">about how public policy impacts the economic</font></font></span></p>\n<p style="text-align: center">\n	<span style="font-size: 12px"><font face="Arial-ItalicMT"><font face="Arial-ItalicMT">vitality of our community\, and how to strengthen</font></font></span></p>\n<p style="text-align: center">\n	<span style="font-size: 12px"><font face="Arial-ItalicMT"><font face="Arial-ItalicMT">our business climate.</font></font></span></p>\n
LOCATION:At VICA 5121 Van Nuys Blvd.\, Sherman Oaks
UID:e.9034.596
SEQUENCE:3
DTSTAMP:20260424T181944Z
URL:http://business.vica.com/events/details/5-25-2011-newsmaker-connection-05-25-2011-596
END:VEVENT

END:VCALENDAR
