BEGIN:VCALENDAR
VERSION:2.0
PRODID:-//ChamberMaster//Event Calendar 2.0//EN
METHOD:PUBLISH
X-PUBLISHED-TTL:P3D
REFRESH-INTERVAL:P3D
CALSCALE:GREGORIAN
BEGIN:VEVENT
DTSTART:20110613T153000Z
DTEND:20110613T163000Z
X-MICROSOFT-CDO-ALLDAYEVENT:FALSE
SUMMARY:6-13-11 VICA Working Group on CEQA Reform Meeting
DESCRIPTION:Meeting Topic: To discuss sugestions to the Legislature on CEQA reforms. \n\n\n\nGoal: Begin compiling suggestions for drafting of the VICA CEQA Reform Principles.
X-ALT-DESC;FMTTYPE=text/html:<span style="font-size: 14px"><span style="font-family: arial"><strong>Meeting Topic: </strong>To discuss sugestions to the Legislature&nbsp\;on CEQA reforms.&nbsp\;<br />\n<br />\n<strong>Goal:&nbsp\;</strong>Begin compiling&nbsp\;suggestions for drafting of the VICA CEQA Reform Principles.</span></span>
LOCATION:VICA Office 5121 Van Nuys Blvd. Ste 203 Sherman Oaks\, Los Angeles\, CA 91403 (Please use street parking or park along the fence at Corky's when attending VICA meetings)
UID:e.9034.623
SEQUENCE:3
DTSTAMP:20260424T170132Z
URL:http://business.vica.com/events/details/6-13-11-vica-working-group-on-ceqa-reform-meeting-06-13-2011-623
END:VEVENT

END:VCALENDAR
