BEGIN:VCALENDAR
VERSION:2.0
PRODID:-//ChamberMaster//Event Calendar 2.0//EN
METHOD:PUBLISH
X-PUBLISHED-TTL:P3D
REFRESH-INTERVAL:P3D
CALSCALE:GREGORIAN
BEGIN:VEVENT
DTSTART:20110623T190000Z
DTEND:20110623T210000Z
X-MICROSOFT-CDO-ALLDAYEVENT:FALSE
SUMMARY:6-23-2011 Board Meeting
DESCRIPTION:VICA Board Meeting
X-ALT-DESC;FMTTYPE=text/html:VICA Board Meeting 
LOCATION:New Horizons 15725 Parthenia Street North Hills\, CA 91343
UID:e.9034.621
SEQUENCE:3
DTSTAMP:20260424T165235Z
URL:http://business.vica.com/events/details/6-23-2011-board-meeting-06-23-2011-621
END:VEVENT

END:VCALENDAR
