BEGIN:VCALENDAR
VERSION:2.0
PRODID:-//ChamberMaster//Event Calendar 2.0//EN
METHOD:PUBLISH
X-PUBLISHED-TTL:P3D
REFRESH-INTERVAL:P3D
CALSCALE:GREGORIAN
BEGIN:VEVENT
DTSTART:20110610T010000Z
DTEND:20110610T043000Z
X-MICROSOFT-CDO-ALLDAYEVENT:FALSE
SUMMARY:6-9-2011 - Hall of Fame Dinner
DESCRIPTION:Please join VICA as we induct five new members into the San Fernando Valley Business Hall of Fame.  Inductees include:  Clay Lacy Aviation\, Facey Medical Group\, Gene Autry\, Sheraton Universal Hotel and the Sierra Canyon School. \n\n\n\n\n\nClick Here for more information.
X-ALT-DESC;FMTTYPE=text/html:Please join VICA as we induct five new members into the San Fernando Valley Business Hall of Fame.&nbsp\; Inductees include:&nbsp\; Clay Lacy Aviation\, Facey Medical Group\, Gene Autry\, Sheraton Universal Hotel and the Sierra Canyon School.&nbsp\;<br />\n<br />\n<br />\n<a href="http://cloud.chambermaster.com/userfiles/UserFiles/chambers/9034/File/VICA_HOF-11_STD_flyer.pdf">Click Here</a> for more information.
LOCATION:Sheraton Universal Hotel 333 Universal Hollywood Drive\, Universal City
UID:e.9034.589
SEQUENCE:3
DTSTAMP:20260424T170950Z
URL:http://business.vica.com/events/details/6-9-2011-hall-of-fame-dinner-06-09-2011-589
END:VEVENT

END:VCALENDAR
