BEGIN:VCALENDAR
VERSION:2.0
PRODID:-//ChamberMaster//Event Calendar 2.0//EN
METHOD:PUBLISH
X-PUBLISHED-TTL:P3D
REFRESH-INTERVAL:P3D
CALSCALE:GREGORIAN
BEGIN:VEVENT
DTSTART:20111016T003000Z
DTEND:20111016T060000Z
X-MICROSOFT-CDO-ALLDAYEVENT:FALSE
SUMMARY:6th Annual Denim & Diamonds for Autism
DESCRIPTION:The star-studded\, red carpet event will feature a cocktail reception\, live entertainment & dancing\, silent and live auctions\, seated dinner and program honoring TV personality Tom Bergeron ("Dancing with the Stars" and "America's Funniest Home Videos") as the 2011 ACTivist award recipient.\n\nACT Today!'s 6th Annual Denim & Diamonds for Autism is designed to help lighten the load of families by providing resources and grants to children whose families cannot afford the necessary tools their child needs to reach their full potential.
X-ALT-DESC;FMTTYPE=text/html:<pre style="white-space: pre-wrap\; font-size: 13px\; font-family: Arial\, sans-serif\; ">\n<span class="Apple-style-span" style="border-collapse: collapse\; font-family: Arial\, sans-serif\; font-size: 13px\; color: rgb(0\, 0\, 0)\; ">The star-studded\, red carpet event will feature a cocktail reception\, live entertainment &amp\; dancing\, silent and live auctions\, seated dinner and program honoring TV personality Tom Bergeron (&quot\;Dancing with the Stars&quot\; and &quot\;America&#39\;s Funniest Home Videos&quot\;) as the 2011 ACTivist award recipient.\n\nACT Today!&rsquo\;s 6th Annual Denim &amp\; Diamonds for Autism is designed to help lighten the load of families by providing resources and grants to children whose families cannot afford the necessary tools their child needs to reach their full potential.</span></pre>\n
LOCATION:Ahmanson Ranch 25345 Mureau Road Calabasas\, CA 91302
UID:e.9034.630
SEQUENCE:3
DTSTAMP:20260424T110624Z
URL:http://business.vica.com/events/details/6th-annual-denim-diamonds-for-autism-10-15-2011-630
END:VEVENT

END:VCALENDAR
