BEGIN:VCALENDAR
VERSION:2.0
PRODID:-//ChamberMaster//Event Calendar 2.0//EN
METHOD:PUBLISH
X-PUBLISHED-TTL:P3D
REFRESH-INTERVAL:P3D
CALSCALE:GREGORIAN
BEGIN:VEVENT
DTSTART:20110715T150000Z
DTEND:20110715T163000Z
X-MICROSOFT-CDO-ALLDAYEVENT:FALSE
SUMMARY:7-15-2011 Newsmaker Connection- Ron Nichols
DESCRIPTION:Regular program for VICA members to dialogue with elected officials in an intimate setting. Usually attracts 30-40 people.
X-ALT-DESC;FMTTYPE=text/html:<p style="text-align: center">\n	<span style="layout-grid-mode: line"><span style="font-size: 11pt"><span style="font-family: arial\,sans-serif"><span style="font-size: 11px"><span style="font-family: arial">Regular program for VICA members to dialogue with elected officials in an intimate setting. Usually attracts 30-40 people</span></span>.</span></span></span></p>\n
LOCATION:VICA Office in the BFG Conf. room located on the 2nd floor. 5121 Van Nuys Blvd. Ste 203 Sherman Oaks\, CA 91403
UID:e.9034.625
SEQUENCE:3
DTSTAMP:20260424T152934Z
URL:http://business.vica.com/events/details/7-15-2011-newsmaker-connection-ron-nichols-07-15-2011-625
END:VEVENT

END:VCALENDAR
