BEGIN:VCALENDAR
VERSION:2.0
PRODID:-//ChamberMaster//Event Calendar 2.0//EN
METHOD:PUBLISH
X-PUBLISHED-TTL:P3D
REFRESH-INTERVAL:P3D
CALSCALE:GREGORIAN
BEGIN:VEVENT
DTSTART:20110722T003000Z
DTEND:20110722T023000Z
X-MICROSOFT-CDO-ALLDAYEVENT:FALSE
SUMMARY:7-21-2011 After Dark Eric Garcetti
DESCRIPTION:regular evening reception with brief remarks from a top opinion leader
X-ALT-DESC;FMTTYPE=text/html:<p style="text-align: center">\n	<span style="font-family: arial"><span style="font-size: 14px"><span style="layout-grid-mode: line">regular evening reception with brief remarks from a top opinion leader</span></span></span></p>\n
LOCATION:Morton's The Steakhouse 6250 Canoga Ave. Woodland Hills
UID:e.9034.622
SEQUENCE:3
DTSTAMP:20260424T152738Z
URL:http://business.vica.com/events/details/7-21-2011-after-dark-eric-garcetti-07-21-2011-622
END:VEVENT

END:VCALENDAR
