BEGIN:VCALENDAR
VERSION:2.0
PRODID:-//ChamberMaster//Event Calendar 2.0//EN
METHOD:PUBLISH
X-PUBLISHED-TTL:P3D
REFRESH-INTERVAL:P3D
CALSCALE:GREGORIAN
BEGIN:VEVENT
DTSTART:20110811T190000Z
DTEND:20110811T203000Z
X-MICROSOFT-CDO-ALLDAYEVENT:FALSE
SUMMARY:8-11 - 2011 Leaders Forum with Debbie Stabenow
DESCRIPTION:VICA Leaders Forum\n\n	Connecting VICA's membership with world-class leaders
X-ALT-DESC;FMTTYPE=text/html:<p style="text-align: center">\n	<span style="font-size: 12px"><font color="#000049"><font color="#000049"><font color="#000049">VICA Leaders Forum</font></font></font></span></p>\n<p style="text-align: center">\n	<span style="font-size: 12px"><i><font color="#000049"><font color="#000049"><font color="#000049">Connecting VICA&rsquo\;s membership with world-class leaders</font></font></font></i></span></p>\n
LOCATION:Thursday\, August 11 noon-1:30 p.m. Airtel Plaza Hotel Concord Room 7277 Valjean Ave.\, Van Nuys
UID:e.9034.633
SEQUENCE:3
DTSTAMP:20260424T142328Z
URL:http://business.vica.com/events/details/8-11-2011-leaders-forum-with-debbie-stabenow-08-11-2011-633
END:VEVENT

END:VCALENDAR
