BEGIN:VCALENDAR
VERSION:2.0
PRODID:-//ChamberMaster//Event Calendar 2.0//EN
METHOD:PUBLISH
X-PUBLISHED-TTL:P3D
REFRESH-INTERVAL:P3D
CALSCALE:GREGORIAN
BEGIN:VEVENT
DTSTART:20110818T183000Z
DTEND:20110818T210000Z
X-MICROSOFT-CDO-ALLDAYEVENT:FALSE
SUMMARY:8-18-2011 Local Officeholders Luncheon
DESCRIPTION:VICA MEMBERS ONLY: One of VICA's best events every year\, this is a unique and fun opportunity to directly engage the Valley's elected officials from local governments. Space is limited to 250.
X-ALT-DESC;FMTTYPE=text/html:<h1>\n	<span style="font-size: 14px"><strong>VICA MEMBERS ONLY: One of VICA&rsquo\;s best events every year\, this is a unique and fun opportunity to directly engage the Valley&rsquo\;s elected officials from local governments. Space is limited to 250.&nbsp\; </strong></span></h1>\n
LOCATION:Beverly Garland Holiday Inn 4222 Vineland Avenue\, North Hollywood
UID:e.9034.592
SEQUENCE:3
DTSTAMP:20260424T140721Z
URL:http://business.vica.com/events/details/8-18-2011-local-officeholders-luncheon-08-18-2011-592
END:VEVENT

END:VCALENDAR
