BEGIN:VCALENDAR
VERSION:2.0
PRODID:-//ChamberMaster//Event Calendar 2.0//EN
METHOD:PUBLISH
X-PUBLISHED-TTL:P3D
REFRESH-INTERVAL:P3D
CALSCALE:GREGORIAN
BEGIN:VEVENT
DTSTART;VALUE=DATE:20110824
DTEND;VALUE=DATE:20110825
TRANSP:TRANSPARENT
X-MICROSOFT-CDO-ALLDAYEVENT:TRUE
SUMMARY:8-24-2011 Advocacy Trip To Sacramento
DESCRIPTION:VICA members will have the\n\n	opportunity to meet with state elected\n\n	officials and high ranking staffers to\n\n	discuss issues that are vital to the\n\n	business community.\n\n	The Sacramento advocacy trips will\n\n	be made monthly and are reserved for\n\n	VICA members only.\n\n	Additional dates will be announced\n\n	once they are scheduled.
X-ALT-DESC;FMTTYPE=text/html:<p style="text-align: center">\n	<span style="font-size: 11px"><font face="ArialMT"><font face="ArialMT">VICA members will have the</font></font></span></p>\n<p style="text-align: center">\n	<span style="font-size: 11px"><font face="ArialMT"><font face="ArialMT">opportunity to meet with state elected</font></font></span></p>\n<p style="text-align: center">\n	<span style="font-size: 11px"><font face="ArialMT"><font face="ArialMT">officials and high ranking staffers to</font></font></span></p>\n<p style="text-align: center">\n	<span style="font-size: 11px"><font face="ArialMT"><font face="ArialMT">discuss issues that are vital to the</font></font></span></p>\n<p style="text-align: center">\n	<span style="font-size: 11px"><font face="ArialMT"><font face="ArialMT">business community.</font></font></span></p>\n<p style="text-align: center">\n	<span style="font-size: 11px"><font face="ArialMT"><font face="ArialMT">The Sacramento advocacy trips will</font></font></span></p>\n<p style="text-align: center">\n	<span style="font-size: 11px"><font face="ArialMT"><font face="ArialMT">be made monthly and are reserved for</font></font></span></p>\n<p style="text-align: center">\n	<span style="font-size: 11px"><font face="ArialMT"><font face="ArialMT">VICA members only.</font></font></span></p>\n<p style="text-align: center">\n	<span style="font-size: 11px"><font face="ArialMT"><font face="ArialMT">Additional dates will be announced</font></font></span></p>\n<p style="text-align: center">\n	<span style="font-size: 11px"><font face="ArialMT"><font face="ArialMT">once they are scheduled.</font></font></span></p>\n
LOCATION:State Capitol Cost for the trip is $250\, which includes airfare\, lunch and group transportation between the airport and Capitol. The cost is $50 without airfare.
UID:e.9034.631
SEQUENCE:3
DTSTAMP:20260424T142558Z
URL:http://business.vica.com/events/details/8-24-2011-advocacy-trip-to-sacramento-08-24-2011-631
END:VEVENT

END:VCALENDAR
