BEGIN:VCALENDAR
VERSION:2.0
PRODID:-//ChamberMaster//Event Calendar 2.0//EN
METHOD:PUBLISH
X-PUBLISHED-TTL:P3D
REFRESH-INTERVAL:P3D
CALSCALE:GREGORIAN
BEGIN:VEVENT
DTSTART:20110830T190000Z
DTEND:20110830T203000Z
X-MICROSOFT-CDO-ALLDAYEVENT:FALSE
SUMMARY:8-30-2011 Leaders Forum with Bill Lockyer
DESCRIPTION:Leaders Forum with State Treasurer Bill Lockyer
X-ALT-DESC;FMTTYPE=text/html:Leaders Forum with State Treasurer Bill Lockyer 
LOCATION:The Beverly Garland Holiday Inn 4222 Vineland Avenue North Hollywood\, CA
UID:e.9034.632
SEQUENCE:3
DTSTAMP:20260424T142102Z
URL:http://business.vica.com/events/details/8-30-2011-leaders-forum-with-bill-lockyer-08-30-2011-632
END:VEVENT

END:VCALENDAR
