BEGIN:VCALENDAR
VERSION:2.0
PRODID:-//ChamberMaster//Event Calendar 2.0//EN
METHOD:PUBLISH
X-PUBLISHED-TTL:P3D
REFRESH-INTERVAL:P3D
CALSCALE:GREGORIAN
BEGIN:VEVENT
DTSTART;VALUE=DATE:20110913
DTEND;VALUE=DATE:20110922
TRANSP:TRANSPARENT
X-MICROSOFT-CDO-ALLDAYEVENT:TRUE
SUMMARY:9/13-India Trip
DESCRIPTION:Join VICA for a nine-day exploration of India\,\n\n	including stays in Delhi\, Jaipur and Agra.\n\n	Depart Los Angeles for Delhi\, September 13\n\n	(tour returns September 21)\n\n	\n\n	Click Here to view the itinerary.
X-ALT-DESC;FMTTYPE=text/html:<p style="text-align: center">\n	<span style="font-size: 14px">Join VICA for a nine-day exploration of India\,</span></p>\n<p style="text-align: center">\n	<span style="font-size: 14px">including stays in Delhi\, Jaipur and Agra.</span></p>\n<p style="text-align: center">\n	<span style="font-size: 14px">Depart Los Angeles for Delhi\, September 13</span></p>\n<p style="text-align: center">\n	<span style="font-size: 14px">(tour returns September 21)<br />\n	<br />\n	<a href="http://cloud.chambermaster.com/userfiles/UserFiles/chambers/9034/File/India%20Flyer.pdf">Click Here</a>&nbsp\;to view the itinerary.</span></p>\n
LOCATION:Visit many of India's notable tourist attractions\, including the Taj Mahal and City Palace Museum. See the India Gate war memorial\, Parliament Building and the President's house. Visit Rajghat\, the cremation ground of Mahatma Gandhi and ride an elephant in Jaipur
UID:e.9034.554
SEQUENCE:3
DTSTAMP:20260424T123643Z
URL:http://business.vica.com/events/details/9-13-india-trip-09-13-2011-554
END:VEVENT

END:VCALENDAR
