BEGIN:VCALENDAR
VERSION:2.0
PRODID:-//ChamberMaster//Event Calendar 2.0//EN
METHOD:PUBLISH
X-PUBLISHED-TTL:P3D
REFRESH-INTERVAL:P3D
CALSCALE:GREGORIAN
BEGIN:VEVENT
DTSTART:20110922T190000Z
DTEND:20110922T210000Z
X-MICROSOFT-CDO-ALLDAYEVENT:FALSE
SUMMARY:Board Meeting - 09/22/11
DESCRIPTION:VICA Board Meeting\n\nHosted by: Cal State Northridge
X-ALT-DESC;FMTTYPE=text/html:VICA Board Meeting<br />\nHosted by: Cal State Northridge 
LOCATION:Cal State Northridge\, Grand Salon 18111 Nordhoff Street\, Northridge Enter the campus from Nordhoff Street at Lindley Ave. Stop at Info Booth 1 to pick up your parking permit. Please tell the attendant you are coming for the VICA Board meeting in the Grand Salon. You will be directed to park in structure G3 and display your permit. Walk to Grand Salon.
UID:e.9034.639
SEQUENCE:3
DTSTAMP:20260424T123852Z
URL:http://business.vica.com/events/details/board-meeting-09-22-11-09-22-2011-639
END:VEVENT

END:VCALENDAR
