BEGIN:VCALENDAR
VERSION:2.0
PRODID:-//ChamberMaster//Event Calendar 2.0//EN
METHOD:PUBLISH
X-PUBLISHED-TTL:P3D
REFRESH-INTERVAL:P3D
CALSCALE:GREGORIAN
BEGIN:VEVENT
DTSTART;VALUE=DATE:20120305
DTEND;VALUE=DATE:20120308
TRANSP:TRANSPARENT
X-MICROSOFT-CDO-ALLDAYEVENT:TRUE
SUMMARY:DC Trip
DESCRIPTION:VICA Washington D.C. Trip
X-ALT-DESC;FMTTYPE=text/html:VICA Washington D.C. Trip
LOCATION:Washington\, D.C.
UID:e.9034.649
SEQUENCE:3
DTSTAMP:20260424T032747Z
URL:http://business.vica.com/events/details/dc-trip-03-05-2012-649
END:VEVENT

END:VCALENDAR
