BEGIN:VCALENDAR
VERSION:2.0
PRODID:-//ChamberMaster//Event Calendar 2.0//EN
METHOD:PUBLISH
X-PUBLISHED-TTL:P3D
REFRESH-INTERVAL:P3D
CALSCALE:GREGORIAN
BEGIN:VEVENT
DTSTART;VALUE=DATE:20110502
DTEND;VALUE=DATE:20110505
TRANSP:TRANSPARENT
X-MICROSOFT-CDO-ALLDAYEVENT:TRUE
SUMMARY:Destination D.C.
DESCRIPTION:
X-ALT-DESC;FMTTYPE=text/html:
LOCATION:
UID:e.9034.557
SEQUENCE:3
DTSTAMP:20260424T181859Z
URL:http://business.vica.com/events/details/destination-d-c-05-02-2011-557
END:VEVENT

END:VCALENDAR
