BEGIN:VCALENDAR
VERSION:2.0
PRODID:-//ChamberMaster//Event Calendar 2.0//EN
METHOD:PUBLISH
X-PUBLISHED-TTL:P3D
REFRESH-INTERVAL:P3D
CALSCALE:GREGORIAN
BEGIN:VEVENT
DTSTART:20110407T153000Z
DTEND:20110407T170000Z
X-MICROSOFT-CDO-ALLDAYEVENT:FALSE
SUMMARY:Environment\, Energy & Utilities Committee
DESCRIPTION:
X-ALT-DESC;FMTTYPE=text/html:
LOCATION:VICA Building 5121 Van Nuys Blvd.\, 2nd Floor Sherman Oaks Parking is not permited under the building unless you are an employee. There is ample parking on the street between Burger King and Corky's or in the row closest to Burger King in the Corky's parking lot.
UID:e.9034.588
SEQUENCE:3
DTSTAMP:20260424T194733Z
URL:http://business.vica.com/events/details/environment-energy-utilities-committee-04-07-2011-588
END:VEVENT

END:VCALENDAR
