BEGIN:VCALENDAR
VERSION:2.0
PRODID:-//ChamberMaster//Event Calendar 2.0//EN
METHOD:PUBLISH
X-PUBLISHED-TTL:P3D
REFRESH-INTERVAL:P3D
CALSCALE:GREGORIAN
BEGIN:VEVENT
DTSTART:20120113T160000Z
DTEND:20120113T180000Z
X-MICROSOFT-CDO-ALLDAYEVENT:FALSE
SUMMARY:Executive Committee Meeting - 01/13/12
DESCRIPTION:VICA Executive Committee Meeting
X-ALT-DESC;FMTTYPE=text/html:VICA Executive Committee Meeting 
LOCATION:VICA Office 5121 Van Nuys Blvd.\, Suite 203 Sherman Oaks\, CA 91403 2nd Floor BFG Conference Room
UID:e.9034.660
SEQUENCE:3
DTSTAMP:20260424T065700Z
URL:http://business.vica.com/events/details/executive-committee-meeting-01-13-12-01-13-2012-660
END:VEVENT

END:VCALENDAR
