BEGIN:VCALENDAR
VERSION:2.0
PRODID:-//ChamberMaster//Event Calendar 2.0//EN
METHOD:PUBLISH
X-PUBLISHED-TTL:P3D
REFRESH-INTERVAL:P3D
CALSCALE:GREGORIAN
BEGIN:VEVENT
DTSTART:20120217T160000Z
DTEND:20120217T180000Z
X-MICROSOFT-CDO-ALLDAYEVENT:FALSE
SUMMARY:Executive Committee Meeting 02/17/12
DESCRIPTION:VICA Executive Committee Meeting
X-ALT-DESC;FMTTYPE=text/html:VICA Executive Committee Meeting 
LOCATION:VICA Office 5121 Van Nuys Blvd.\, Suite 203 Sherman Oaks\, CA 91403 Please remember that there is only tenant parking below the building. There is ample parking across the street\, on the side street near Burger King or in the Corky's parking lot as long as you park in the lane nearest Burger King.
UID:e.9034.665
SEQUENCE:3
DTSTAMP:20260424T050801Z
URL:http://business.vica.com/events/details/executive-committee-meeting-02-17-12-02-17-2012-665
END:VEVENT

END:VCALENDAR
