BEGIN:VCALENDAR
VERSION:2.0
PRODID:-//ChamberMaster//Event Calendar 2.0//EN
METHOD:PUBLISH
X-PUBLISHED-TTL:P3D
REFRESH-INTERVAL:P3D
CALSCALE:GREGORIAN
BEGIN:VEVENT
DTSTART:20120309T160000Z
DTEND:20120309T180000Z
X-MICROSOFT-CDO-ALLDAYEVENT:FALSE
SUMMARY:Executive Committee Meeting 03/09/12
DESCRIPTION:VICA Executive Committee Meeting
X-ALT-DESC;FMTTYPE=text/html:VICA Executive Committee Meeting 
LOCATION:VICA Building 5121 Van Nuys Blvd.\, Suite 203 Sherman Oaks\, CA 91403 Parking under the building is for tenants only. There is ample parking on the side street near Burger King\, across the street in the park lot or in the Corkey's lot (the aisle nearest to Burger King).
UID:e.9034.676
SEQUENCE:3
DTSTAMP:20260424T033028Z
URL:http://business.vica.com/events/details/executive-committee-meeting-03-09-12-03-09-2012-676
END:VEVENT

END:VCALENDAR
