BEGIN:VCALENDAR
VERSION:2.0
PRODID:-//ChamberMaster//Event Calendar 2.0//EN
METHOD:PUBLISH
X-PUBLISHED-TTL:P3D
REFRESH-INTERVAL:P3D
CALSCALE:GREGORIAN
BEGIN:VEVENT
DTSTART:20120413T150000Z
DTEND:20120413T170000Z
X-MICROSOFT-CDO-ALLDAYEVENT:FALSE
SUMMARY:Executive Committee Meeting 04/13/12
DESCRIPTION:VICA Executive Committee Meeting
X-ALT-DESC;FMTTYPE=text/html:VICA Executive Committee Meeting 
LOCATION:VICA Office 5121 Van Nuys Blvd.\, Suite 203 Sherman Oaks\, CA 91403 Parking in the building is for tenants only. There is ample parking across the street\, on the street near Burger King or in the Corky's parking lot in the aisle nearest to Burger King.
UID:e.9034.685
SEQUENCE:3
DTSTAMP:20260424T015340Z
URL:http://business.vica.com/events/details/executive-committee-meeting-04-13-12-04-13-2012-685
END:VEVENT

END:VCALENDAR
