BEGIN:VCALENDAR
VERSION:2.0
PRODID:-//ChamberMaster//Event Calendar 2.0//EN
METHOD:PUBLISH
X-PUBLISHED-TTL:P3D
REFRESH-INTERVAL:P3D
CALSCALE:GREGORIAN
BEGIN:VEVENT
DTSTART;VALUE=DATE:20120124
DTEND;VALUE=DATE:20120125
TRANSP:TRANSPARENT
X-MICROSOFT-CDO-ALLDAYEVENT:TRUE
SUMMARY:Healthcare Committee Meeting
DESCRIPTION:VICA Healthcare Committee Meeting
X-ALT-DESC;FMTTYPE=text/html:VICA Healthcare Committee Meeting
LOCATION:VICA Office 5121 Van Nuys Blvd. Sherman Oaks\, CA 91403
UID:e.9034.661
SEQUENCE:3
DTSTAMP:20260424T065945Z
URL:http://business.vica.com/events/details/healthcare-committee-meeting-01-24-2012-661
END:VEVENT

END:VCALENDAR
