BEGIN:VCALENDAR
VERSION:2.0
PRODID:-//ChamberMaster//Event Calendar 2.0//EN
METHOD:PUBLISH
X-PUBLISHED-TTL:P3D
REFRESH-INTERVAL:P3D
CALSCALE:GREGORIAN
BEGIN:VEVENT
DTSTART:20110927T153000Z
DTEND:20110927T170000Z
X-MICROSOFT-CDO-ALLDAYEVENT:FALSE
SUMMARY:International Affairs Subcommittee
DESCRIPTION:VICA International Affairs Subcommittee Meeting
X-ALT-DESC;FMTTYPE=text/html:VICA International Affairs Subcommittee Meeting 
LOCATION:VICA Building\, 2nd Floor 5121 Van Nuys Blvd. Sherman Oaks\, CA 91403 Please do not park under building. Parking is available either across the street or on the street between Burger King and Corky's
UID:e.9034.641
SEQUENCE:3
DTSTAMP:20260424T123933Z
URL:http://business.vica.com/events/details/international-affairs-subcommittee-09-27-2011-641
END:VEVENT

END:VCALENDAR
