BEGIN:VCALENDAR
VERSION:2.0
PRODID:-//ChamberMaster//Event Calendar 2.0//EN
METHOD:PUBLISH
X-PUBLISHED-TTL:P3D
REFRESH-INTERVAL:P3D
CALSCALE:GREGORIAN
BEGIN:VEVENT
DTSTART:20120816T183000Z
DTEND:20120816T203000Z
X-MICROSOFT-CDO-ALLDAYEVENT:FALSE
SUMMARY:Local Officeholders Luncheon
DESCRIPTION:Local Officeholders Luncheon
X-ALT-DESC;FMTTYPE=text/html:Local Officeholders Luncheon
LOCATION:The Beverly Garland Holiday Inn 4222 Vineland Ave.\, North Hollywood
UID:e.9034.667
SEQUENCE:3
DTSTAMP:20260423T202145Z
URL:http://business.vica.com/events/details/local-officeholders-luncheon-08-16-2012-667
END:VEVENT

END:VCALENDAR
