BEGIN:VCALENDAR
VERSION:2.0
PRODID:-//ChamberMaster//Event Calendar 2.0//EN
METHOD:PUBLISH
X-PUBLISHED-TTL:P3D
REFRESH-INTERVAL:P3D
CALSCALE:GREGORIAN
BEGIN:VEVENT
DTSTART:20110914T190000Z
DTEND:20110914T203000Z
X-MICROSOFT-CDO-ALLDAYEVENT:FALSE
SUMMARY:Membership Committee - 09/14/11
DESCRIPTION:VICA Education Committee Meeting
X-ALT-DESC;FMTTYPE=text/html:VICA Education Committee Meeting 
LOCATION:The committee meeting is hosted by New Horizons
UID:e.9034.640
SEQUENCE:3
DTSTAMP:20260424T123903Z
URL:http://business.vica.com/events/details/membership-committee-09-14-11-09-14-2011-640
END:VEVENT

END:VCALENDAR
