BEGIN:VCALENDAR
VERSION:2.0
PRODID:-//ChamberMaster//Event Calendar 2.0//EN
METHOD:PUBLISH
X-PUBLISHED-TTL:P3D
REFRESH-INTERVAL:P3D
CALSCALE:GREGORIAN
BEGIN:VEVENT
DTSTART:20120320T150000Z
DTEND:20120320T170000Z
X-MICROSOFT-CDO-ALLDAYEVENT:FALSE
SUMMARY:Newsmaker Connection AD 39 Forum 03/20/12
DESCRIPTION:Newsmaker Connection feat. AD 39 Candidate Forum
X-ALT-DESC;FMTTYPE=text/html:Newsmaker Connection feat. AD 39 Candidate Forum
LOCATION:VICA Office 5121 Van Nuys Blvd.\, 2nd Floor Sherman Oaks\, CA 91403
UID:e.9034.671
SEQUENCE:3
DTSTAMP:20260424T032915Z
URL:http://business.vica.com/events/details/newsmaker-connection-ad-39-forum-03-20-12-03-20-2012-671
END:VEVENT

END:VCALENDAR
