BEGIN:VCALENDAR
VERSION:2.0
PRODID:-//ChamberMaster//Event Calendar 2.0//EN
METHOD:PUBLISH
X-PUBLISHED-TTL:P3D
REFRESH-INTERVAL:P3D
CALSCALE:GREGORIAN
BEGIN:VEVENT
DTSTART:20120131T160000Z
DTEND:20120131T180000Z
X-MICROSOFT-CDO-ALLDAYEVENT:FALSE
SUMMARY:Newsmaker Connection - AD 46 Forum 1/31/12
DESCRIPTION:Newsmaker Connection\n\nAD 46 Forum
X-ALT-DESC;FMTTYPE=text/html:Newsmaker Connection<br />\nAD 46 Forum
LOCATION:VICA Office 5121 Van Nuys Blvd.\, 2nd Floor BFG Conference Room Parking under the building is for tenants only\, please park on the street or across the street in the park parking lot.
UID:e.9034.659
SEQUENCE:3
DTSTAMP:20260424T064312Z
URL:http://business.vica.com/events/details/newsmaker-connection-ad-46-forum-1-31-12-01-31-2012-659
END:VEVENT

END:VCALENDAR
