BEGIN:VCALENDAR
VERSION:2.0
PRODID:-//ChamberMaster//Event Calendar 2.0//EN
METHOD:PUBLISH
X-PUBLISHED-TTL:P3D
REFRESH-INTERVAL:P3D
CALSCALE:GREGORIAN
BEGIN:VEVENT
DTSTART:20111108T200000Z
DTEND:20111108T213000Z
X-MICROSOFT-CDO-ALLDAYEVENT:FALSE
SUMMARY:Newsmaker Connection with Bob Blumenfield
DESCRIPTION:VICA Newsmaker Connection with Bob Blumenfield
X-ALT-DESC;FMTTYPE=text/html:VICA Newsmaker Connection with Bob Blumenfield
LOCATION:VICA Building 5121 Van Nuys Blvd.\, 2nd Floor Sherman Oaks\, CA 91403
UID:e.9034.645
SEQUENCE:3
DTSTAMP:20260424T093933Z
URL:http://business.vica.com/events/details/newsmaker-connection-with-bob-blumenfield-11-08-2011-645
END:VEVENT

END:VCALENDAR
