BEGIN:VCALENDAR
VERSION:2.0
PRODID:-//ChamberMaster//Event Calendar 2.0//EN
METHOD:PUBLISH
X-PUBLISHED-TTL:P3D
REFRESH-INTERVAL:P3D
CALSCALE:GREGORIAN
BEGIN:VEVENT
DTSTART:20120424T150000Z
DTEND:20120424T163000Z
X-MICROSOFT-CDO-ALLDAYEVENT:FALSE
SUMMARY:Newsmaker Connection with Dennis Zine
DESCRIPTION:Newsmaker Connection with LA City Councilmember Dennis Zine
X-ALT-DESC;FMTTYPE=text/html:Newsmaker Connection with LA City Councilmember Dennis Zine
LOCATION:VICA Office 5121 Van Nuys Blvd. Sherman Oaks
UID:e.9034.682
SEQUENCE:3
DTSTAMP:20260424T015340Z
URL:http://business.vica.com/events/details/newsmaker-connection-with-dennis-zine-04-24-2012-682
END:VEVENT

END:VCALENDAR
