BEGIN:VCALENDAR
VERSION:2.0
PRODID:-//ChamberMaster//Event Calendar 2.0//EN
METHOD:PUBLISH
X-PUBLISHED-TTL:P3D
REFRESH-INTERVAL:P3D
CALSCALE:GREGORIAN
BEGIN:VEVENT
DTSTART;VALUE=DATE:20110517
DTEND;VALUE=DATE:20110518
TRANSP:TRANSPARENT
X-MICROSOFT-CDO-ALLDAYEVENT:TRUE
SUMMARY:Sac Trip 5/17/2011
DESCRIPTION:
X-ALT-DESC;FMTTYPE=text/html:
LOCATION:
UID:e.9034.594
SEQUENCE:3
DTSTAMP:20260424T182020Z
URL:http://business.vica.com/events/details/sac-trip-5-17-2011-05-17-2011-594
END:VEVENT

END:VCALENDAR
