BEGIN:VCALENDAR
VERSION:2.0
PRODID:-//ChamberMaster//Event Calendar 2.0//EN
METHOD:PUBLISH
X-PUBLISHED-TTL:P3D
REFRESH-INTERVAL:P3D
CALSCALE:GREGORIAN
BEGIN:VEVENT
DTSTART;VALUE=DATE:20110601
DTEND;VALUE=DATE:20110603
TRANSP:TRANSPARENT
X-MICROSOFT-CDO-ALLDAYEVENT:TRUE
SUMMARY:Sac Trip June 1-2/2011
DESCRIPTION:Register Now!\n\n	VICA's DESTINATION Sacramento is presented in conjunction with the CalChamber's 2011 Business\n\n	Summit. Get VIP access to state lawmakers and join VICA in advocating for the key business issues that\n\n	create a stronger economy.
X-ALT-DESC;FMTTYPE=text/html:<p style="text-align: center">\n	<span style="font-size: 14px"><b><font color="#3e0007"><font color="#3e0007"><font color="#3e0007">Register Now!</font></font></font></b></span></p>\n<p style="text-align: center">\n	<span style="font-size: 14px">VICA&rsquo\;s DESTINATION Sacramento is presented in conjunction with the CalChamber&rsquo\;s 2011 Business</span></p>\n<p style="text-align: center">\n	<span style="font-size: 14px">Summit. Get VIP access to state lawmakers and join VICA in advocating for the key business issues that</span></p>\n<p style="text-align: center">\n	<span style="font-size: 14px">create a stronger economy.</span></p>\n
LOCATION:Wed.\, June 1 Thurs.\, June 2 10 a.m. Registration Sacramento Convention Center\, 3rd Floor Ballroom 9 a.m. Summit opening CalChamber President Allan Zaremberg CalChamber Priorities Introduction of the CalChamber Policy Advocates 10:30 a.m. Special Guest Speaker John Watson CEO/Chairman\, Chevron Corporation 11:10 a.m. Discussion of key issues with noted experts noon Break 12:15 p.m. Summit luncheon 12:45 p.m. Introduction of special guests Local Chamber recognition: President's Circle Political Partner of the Year Small Business Advocate of the Year Awards 1:15 p.m. Special guest speaker Dr. Frank Luntz Communications Expert\, Political Pollster and Bestselling Author 2 p.m. Luncheon adjourns 2:15-3:45 p.m. Breakout sessions Advocacy Boot Camp 101 Political Reforms: Redistricting and Top Two Open Primary HR Issues and Compliance Update International Trade Forum (CalChamber Office) 5:30-7 p.m. Sacramento host reception Sutter Club: 1220 Ninth Street\, Sacramento Sacramento host breakfast registration Sacramento Convention Center\, 3rd Floor Ballroom 6:30 a.m. 7:30-9:15 a.m. Sacramento host breakfast 7:30 p.m. VICA delegation dinner Location TBA 9:30-11:30 a.m. Capitol meetings VICA delegation lunch The Broiler noon-1:30 p.m. 2-3 p.m. Capitol meetings
UID:e.9034.595
SEQUENCE:3
DTSTAMP:20260424T165235Z
URL:http://business.vica.com/events/details/sac-trip-june-1-2-2011-06-01-2011-595
END:VEVENT

END:VCALENDAR
