BEGIN:VCALENDAR
VERSION:2.0
PRODID:-//ChamberMaster//Event Calendar 2.0//EN
METHOD:PUBLISH
X-PUBLISHED-TTL:P3D
REFRESH-INTERVAL:P3D
CALSCALE:GREGORIAN
BEGIN:VEVENT
DTSTART;VALUE=DATE:20120222
DTEND;VALUE=DATE:20120223
TRANSP:TRANSPARENT
X-MICROSOFT-CDO-ALLDAYEVENT:TRUE
SUMMARY:Sacramento Advocacy Trip - February 22\, 2012
DESCRIPTION:VICA members will have the opportunity to meet with state elected officials and high ranking staffers to discuss issues that are vital to the business community.\n\n	\n\n	The Sacramento advocacy trips will be made monthly and are reserved for VICA members only.\n\n	\n\n	Additional dates will be announced once they are scheduled.
X-ALT-DESC;FMTTYPE=text/html:<p>\n	<span style="font-size: 14px"><span _fck_bookmark="1" style="display: none"><span style="font-size: 14px">VICA members will have the opportunity to meet with state elected officials and high ranking staffers to discuss issues that are vital to the business community.<br />\n	<br />\n	The Sacramento advocacy trips will be made monthly and are reserved for VICA members only.<br />\n	<br />\n	Additional dates will be announced once they are scheduled.<span _fck_bookmark="1" style="display: none">&nbsp\;</span></span></span></span></p>\n<span style="font-size: 14px"><span _fck_bookmark="1" style="display: none">&nbsp\;</span></span>
LOCATION:State Capitol
UID:e.9034.652
SEQUENCE:3
DTSTAMP:20260424T051116Z
URL:http://business.vica.com/events/details/sacramento-advocacy-trip-february-22-2012-02-22-2012-652
END:VEVENT

END:VCALENDAR
