BEGIN:VCALENDAR
VERSION:2.0
PRODID:-//ChamberMaster//Event Calendar 2.0//EN
METHOD:PUBLISH
X-PUBLISHED-TTL:P3D
REFRESH-INTERVAL:P3D
CALSCALE:GREGORIAN
BEGIN:VEVENT
DTSTART;VALUE=DATE:20120117
DTEND;VALUE=DATE:20120118
TRANSP:TRANSPARENT
X-MICROSOFT-CDO-ALLDAYEVENT:TRUE
SUMMARY:Sacramento Advocacy Trip - January 17\, 2012
DESCRIPTION:VICA members will have the opportunity to meet with state elected officials and high ranking staffers to discuss issues that are vital to the business community.\n\n	\n\n	The Sacramento advocacy trips will be made monthly and are reserved for VICA members only.\n\n	\n\n	Additional dates will be announced once they are scheduled.
X-ALT-DESC;FMTTYPE=text/html:<p>\n	<span style="font-size: 14px">VICA members will have the opportunity to meet with state elected officials and high ranking staffers to discuss issues that are vital to the business community.<br />\n	<br />\n	The Sacramento advocacy trips will be made monthly and are reserved for VICA members only.<br />\n	<br />\n	Additional dates will be announced once they are scheduled.</span></p>\n
LOCATION:State Capitol
UID:e.9034.651
SEQUENCE:3
DTSTAMP:20260424T064621Z
URL:http://business.vica.com/events/details/sacramento-advocacy-trip-january-17-2012-01-17-2012-651
END:VEVENT

END:VCALENDAR
