BEGIN:VCALENDAR
VERSION:2.0
PRODID:-//ChamberMaster//Event Calendar 2.0//EN
METHOD:PUBLISH
X-PUBLISHED-TTL:P3D
REFRESH-INTERVAL:P3D
CALSCALE:GREGORIAN
BEGIN:VEVENT
DTSTART;VALUE=DATE:20120119
DTEND;VALUE=DATE:20120124
TRANSP:TRANSPARENT
X-MICROSOFT-CDO-ALLDAYEVENT:TRUE
SUMMARY:Sundance Trip
DESCRIPTION:Join VICA for a five day trip to Park City\, Utah for the Sundance Film Festival.\n\n\n\nSpace is limited. This trip will sell out.
X-ALT-DESC;FMTTYPE=text/html:Join VICA for a five day trip to Park City\, Utah for the Sundance Film Festival.<br />\n<br />\nSpace is limited. This trip will sell out.
LOCATION:Park City\, Utah Accomodations at the Holiday Inn Express Park City
UID:e.9034.642
SEQUENCE:3
DTSTAMP:20260424T065032Z
URL:http://business.vica.com/events/details/sundance-trip-01-19-2012-642
END:VEVENT

END:VCALENDAR
