BEGIN:VCALENDAR
VERSION:2.0
PRODID:-//ChamberMaster//Event Calendar 2.0//EN
METHOD:PUBLISH
X-PUBLISHED-TTL:P3D
REFRESH-INTERVAL:P3D
CALSCALE:GREGORIAN
BEGIN:VEVENT
DTSTART:20120315T003000Z
DTEND:20120315T023000Z
X-MICROSOFT-CDO-ALLDAYEVENT:FALSE
SUMMARY:VICA After Dark with L.A. County Supervisor Michael Antonovich
DESCRIPTION:VICA After Dark with L.A. County Supervisor Michael Antonovich
X-ALT-DESC;FMTTYPE=text/html:VICA After Dark with L.A. County Supervisor Michael Antonovich
LOCATION:Woodland Hills Country Club 21150 Dumetz Road Woodland Hills\, CA 91364
UID:e.9034.664
SEQUENCE:3
DTSTAMP:20260424T033027Z
URL:http://business.vica.com/events/details/vica-after-dark-with-l-a-county-supervisor-michael-antonovich-03-14-2012-664
END:VEVENT

END:VCALENDAR
