BEGIN:VCALENDAR
VERSION:2.0
PRODID:-//ChamberMaster//Event Calendar 2.0//EN
METHOD:PUBLISH
X-PUBLISHED-TTL:P3D
REFRESH-INTERVAL:P3D
CALSCALE:GREGORIAN
BEGIN:VEVENT
DTSTART:20111130T013000Z
DTEND:20111130T030000Z
X-MICROSOFT-CDO-ALLDAYEVENT:FALSE
SUMMARY:VICA After Dark with Mitch Englander
DESCRIPTION:VICA After Dark with Mitch Englander
X-ALT-DESC;FMTTYPE=text/html:VICA After Dark with Mitch Englander
LOCATION:The Beverly Garland Holiday Inn 4222 Vineland Ave.\, North Hollywood
UID:e.9034.646
SEQUENCE:3
DTSTAMP:20260424T093607Z
URL:http://business.vica.com/events/details/vica-after-dark-with-mitch-englander-11-29-2011-646
END:VEVENT

END:VCALENDAR
