BEGIN:VCALENDAR
VERSION:2.0
PRODID:-//ChamberMaster//Event Calendar 2.0//EN
METHOD:PUBLISH
X-PUBLISHED-TTL:P3D
REFRESH-INTERVAL:P3D
CALSCALE:GREGORIAN
BEGIN:VEVENT
DTSTART:20120406T023000Z
DTEND:20120406T043000Z
X-MICROSOFT-CDO-ALLDAYEVENT:FALSE
SUMMARY:VICA Hockey Night
DESCRIPTION:VICA Hockey Night\n\nLos Angeles Kings v. San Jose Sharks
X-ALT-DESC;FMTTYPE=text/html:VICA Hockey Night<br />\nLos Angeles Kings v. San Jose Sharks
LOCATION:Staples Center AEG Owner's Suite 1111 South Figueroa Street Los Angeles
UID:e.9034.672
SEQUENCE:3
DTSTAMP:20260424T015352Z
URL:http://business.vica.com/events/details/vica-hockey-night-04-05-2012-672
END:VEVENT

END:VCALENDAR
